BEGIN:VCALENDAR
VERSION:2.0
PRODID:-//Punto e Linea Magazine - ECPv6.15.11//NONSGML v1.0//EN
CALSCALE:GREGORIAN
METHOD:PUBLISH
X-WR-CALNAME:Punto e Linea Magazine
X-ORIGINAL-URL:https://www.puntoelineamagazine.it
X-WR-CALDESC:Eventi per Punto e Linea Magazine
REFRESH-INTERVAL;VALUE=DURATION:PT1H
X-Robots-Tag:noindex
X-PUBLISHED-TTL:PT1H
BEGIN:VTIMEZONE
TZID:Europe/Rome
BEGIN:DAYLIGHT
TZOFFSETFROM:+0100
TZOFFSETTO:+0200
TZNAME:CEST
DTSTART:20230326T010000
END:DAYLIGHT
BEGIN:STANDARD
TZOFFSETFROM:+0200
TZOFFSETTO:+0100
TZNAME:CET
DTSTART:20231029T010000
END:STANDARD
BEGIN:DAYLIGHT
TZOFFSETFROM:+0100
TZOFFSETTO:+0200
TZNAME:CEST
DTSTART:20240331T010000
END:DAYLIGHT
BEGIN:STANDARD
TZOFFSETFROM:+0200
TZOFFSETTO:+0100
TZNAME:CET
DTSTART:20241027T010000
END:STANDARD
BEGIN:DAYLIGHT
TZOFFSETFROM:+0100
TZOFFSETTO:+0200
TZNAME:CEST
DTSTART:20250330T010000
END:DAYLIGHT
BEGIN:STANDARD
TZOFFSETFROM:+0200
TZOFFSETTO:+0100
TZNAME:CET
DTSTART:20251026T010000
END:STANDARD
BEGIN:DAYLIGHT
TZOFFSETFROM:+0100
TZOFFSETTO:+0200
TZNAME:CEST
DTSTART:20260329T010000
END:DAYLIGHT
BEGIN:STANDARD
TZOFFSETFROM:+0200
TZOFFSETTO:+0100
TZNAME:CET
DTSTART:20261025T010000
END:STANDARD
END:VTIMEZONE
BEGIN:VEVENT
DTSTART;TZID=Europe/Rome:20240927T080000
DTEND;TZID=Europe/Rome:20250830T233000
DTSTAMP:20260421T161711
CREATED:20240821T180200Z
LAST-MODIFIED:20240821T180200Z
UID:10000027-1727424000-1756596600@www.puntoelineamagazine.it
SUMMARY:INCANTO E FATICA NELLE CRETE SENESI
DESCRIPTION:Museo dell’Antica Grancia e dell’Olio di Serre di Rapolano (esterno) © Fondazione Musei Senesi\nBellezza paesaggistica e mezzadria si incontrano nella mostra ‘Incanto e fatica nelle Crete senesi’ fra dipinti dal ‘900 a oggi\, foto e videoart\nAl Museo dell’Antica Grancia e dell’Olio 40 dipinti in arrivo dai depositi di Banca MPS e dalla Pinacoteca Nazionale di Siena. Al cinema teatro ‘G. Verdi’ foto\, filmati storici\, videoart e un’opera audiovisiva \nL’esposizione animerà Serre di Rapolano dal 27 settembre 2024 al 30 agosto 2025 in due location storiche \nLe Crete senesi viste attraverso tecniche artistiche diverse per raccontare una bellezza paesaggistica amata da secoli e il patrimonio sociale e culturale legato alla mezzadria e alla durezza del lavoro. Sono loro le protagoniste assolute della mostra ‘Incanto e fatica nelle Crete senesi’\, in programma a Serre di Rapolano dal 27 settembre 2024 al 30 agosto 2025 in due location di eccezione del borgo nel comune di Rapolano Terme: il Museo dell’Antica Grancia e dell’Olio ospiterà 40 dipinti in gran parte mai esposti in arrivo dai depositi della Banca Monte dei Paschi di Siena e dalla Pinacoteca Nazionale di Siena\, firmati da grandi autori dal ‘900 a oggi da Dario Neri a Renato Guttuso fino ad artisti contemporanei\, mentre il cinema teatro ‘Giuseppe Verdi’\, recentemente riqualificato\, accoglierà la proiezione di filmati storici e videoart oltre agli scatti di 4 fotografi contemporanei. La mostra\, curata da Anna Maria Guiducci\, è promossa dal Comune di Rapolano Terme in collaborazione con Visionaria e Fondazione Musei Senesi e le due location saranno aperte durante il fine settimana. \nLa mostra ‘Incanto e fatica nelle Crete senesi’ ruota attorno alla bellezza inconfondibile del paesaggio delle Crete senesi\, “portatore d’incanto” fra i più rappresentati dai pittori dal Quattrocento a oggi\, e ne valorizza al tempo stesso l’elemento umano e l’aspetto lavorativo che per secoli ha visto protagonisti tanti uomini e donne con la mezzadria. Il risultato è un viaggio attraverso dipinti\, filmati storici\, scatti fotografici e videoart per raccontare non solo il fascino paesaggistico di questo territorio e delle sue inimitabili “biancane” ma anche il duro e aspro lavoro su queste colline che ne ha caratterizzato lo sviluppo antropologico. A rendere ancora più uniti i due temi è il dialogo fra il Museo dell’Antica Grancia e dell’Olio e il cinema teatro ‘Giuseppe Verdi’\, edifici lontani per epoca di costruzione ma legati dalla loro importanza per la storia di Serre di Rapolano\, pronti ad accogliere chi vorrà scoprire la singolarità e il fascino elegante del borgo. \nIl Museo dell’Antica Grancia e dell’Olio accoglierà 40 dipinti dedicati ai paesaggi delle Crete senesi e ad alcuni particolari che li rendono unici con una raccolta preziosa e in gran parte poco conosciuta. Le opere provengono\, infatti\, dai depositi della Banca Monte dei Paschi di Siena e dalla Pinacoteca Nazionale di Siena\, che partecipa all’evento con il prestito delle preziose pitture di Renato Guttuso ispirate dalla campagna nei dintorni della città e donate alla famiglia dell’amico Cesare Brandi nel 1938 per ringraziarla dell’ospitalità nella villa di Vignano. Insieme a Guttuso\, sarà possibile ammirare le opere di Dario Neri\, Otello Chiti\, Aldo Marzi\, Vittorio Zani\, Roberto Corsini e Vittorio Giunti\, a cui si uniranno i contemporanei Carlo Pizzichini\, Franca Marini e Luca Bellaccini. L’esposizione sarà arricchita da due bassorilievi di Alberto Sani\, scultore autodidatta scoperto e valorizzato da Dario Neri\, e proporrà un itinerario culturale composto da linguaggi stilistici eterogenei pronti a conquistare il pubblico con opere in larga parte mai esposte. \nIl cinema teatro ‘Giuseppe Verdi’ ospiterà\, invece\, un omaggio alle Crete senesi e al lavoro nei campi dal passato ai giorni nostri attraverso gli scatti di 4 fotografi contemporanei – Davide Borghi\, Marco Bruttini\, Alessio Duranti\, Marco Muzzi – pronti a raccogliere il testimone dei pittori protagonisti al Museo dell’Antica Grancia e dell’Olio per continuare a raccontare l’unicità e la bellezza paesaggistica e sociale di queste colline brulle e biancastre. L’esposizione dei fotografi sarà arricchita dall’opera audiovisiva curata dall’artista inglese Jacqueline Tune per raccontare la particolarità paesaggistica delle Crete e l’elemento umano che l’ha caratterizzata nei secoli attraverso le voci di alcune persone che hanno vissuto l’ultimo periodo della mezzadria. \nL’allestimento nel cinema teatro ‘Giuseppe Verdi’ conta su un’attenta ricerca svolta in collaborazione con il Museo della Mezzadria senese di Buonconvento\, che ha messo a disposizione i suoi materiali visivi d’archivio dedicati al lavoro nelle campagne senesi tra Ottocento e Novecento.
URL:https://www.puntoelineamagazine.it/evento/incanto-e-fatica-nelle-crete-senesi/
LOCATION:Museo dell’Antica Grancia e dell’Olio\, Via dell’Antica Grancia\, 3\, Serre di Rapolano - Rapolano Terme\, Italia
CATEGORIES:Allestimenti/Mostre
END:VEVENT
BEGIN:VEVENT
DTSTART;TZID=Europe/Rome:20250624T203000
DTEND;TZID=Europe/Rome:20250705T203000
DTSTAMP:20260421T161711
CREATED:20250610T145312Z
LAST-MODIFIED:20250610T145312Z
UID:10000057-1750797000-1751747400@www.puntoelineamagazine.it
SUMMARY:IL GIOCO DELL’AMORE E DEL CASO di Pierre Carlet de Chamblain de Marivaux
DESCRIPTION:Foto di scena: Il gioco dell’amore e del caso © Alessandro Saletta\nMTM Teatro Litta – dal 24 giugno al 5 luglio 2025  \nIl gioco dell’amore e del caso\ndi Pierre Carlet de Chamblain de Marivaux\nnuova traduzione di Michele Zaffarano\nadattamento e regia Antonio Syxty\ncon Agnese Sofia Bonato\, Gaetano Callegaro\, Francesco Martucci\, Jasmine Monti\, Filippo Renda\nregista assistente Filippo Renda\n \nscene Guido Buganza\ncostumi Valentina Volpi\nrestyling e sartoria Francesca Biffi\n \ndisegno luci Fulvio Melli\nassistente alla regia e delegata di produzione Susanna Russo\nproduzione Manifatture Teatrali Milanesi \nIl gioco dell’amore e del caso di Pierre Carlet de Chamblain de Marivaux è una commedia teatrale molto simile a un prezioso ingranaggio. Questo capolavoro\, esaltato come uno dei vertici della drammaturgia francese\, cattura l’attenzione degli spettatori con un intricato intreccio di travestimenti\, inganni e amori segreti.\nIn questa vera e propria commedia degli equivoci\, Marivaux mette in scena il classico scambio di ruoli\, quello tra padroni e servi\, che\, pur proponendosi uno scopo chiarificatore\, non porta altro se non ulteriori complicazioni di sentimenti e relazioni. \nUna commedia molto simile a un prezioso ingranaggio che cattura l’attenzione degli spettatori con un intricato intreccio di travestimenti\, inganni e amori segreti.\nSilvia ama Dorante\, ma per studiarne la virtù decide di vestire segretamente i panni della sua cameriera Lisetta. Ma anche Dorante ha avuto la stessa idea e si traveste dal suo servo Arlecchino.\nIl testo esplora le sfumature dell’amore attraverso lo scambio di ruoli tra i personaggi\, offrendo una vivace girandola di emozioni e colpi di scena e distinguendosi per la brillantezza delle interpretazioni e la profondità psicologica dei personaggi.\nMarivaux offre uno sguardo penetrante sulla metafisica del cuore\, evidenziando il trionfo della passione sull’egoismo e le convenzioni sociali\, incantando il pubblico con il suo intrigo avvincente e la sua raffinata analisi dell’amore e della società.\nA sovrastare il tutto\, un’intrusione visiva che rende la scena quasi un’installazione\, come le nuvole di Berndnaut Smilde\, anche se qui al posto della nuvola c’è un gorilla warholiano fucsia che indossa anche lui una maschera\, a voler emulare gli umani nei loro bizzarri traccheggiamenti\, assurgendo a deus ex machina. \nNote di regia:\nUna nuova traduzione per Marivaux.\nQuando faccio teatro la prima cosa\, per il mio lavoro\, è avere a disposizione una lingua che possa produrre un suono coerente con il testo e con il dispositivo che il testo mette in atto\, inizialmente sulla pagina scritta e in un secondo momento nella trasposizione organica per la voce. Mi capita spesso – nella vita quotidiana – di notare come spesso scegliamo a caso le parole che pronunciamo per comunicare. Il più delle volte usiamo le parole con trascuratezza\, con approssimazione\, in modo sbrigativo perché ciò che ci preme è comunicare\, ma nello stesso tempo utilizziamo il dispositivo verbale senza la consapevolezza della sua ricchezza e potenzialità allegorica\, semantica\, metaforica.\nIl teatro non può e non deve uniformarsi al quotidiano\, soprattutto nel caso di un testo del 1730\, che è un dispositivo drammaturgico in grado di creare un disegno raffinato intorno a quelli che sono i meccanismi umani\, che regolano verità e rappresentazione di sé e dei propri sentimenti.\nPer questo ho chiesto a Michele Zaffarano\, già traduttore di autori francesi come Francis Ponge\, Christophe Tarkos\, Michel Onfray\, Alain Badiou\, Chare Baudelaire\, Jean-Marie Gleize e altri di fare una nuova traduzione dal testo francese originale di Marivaux.\nOgni traduzione è un tradimento dell’originale e il teatro è il luogo del tradimento\, ma la scelta che si fa del dispositivo verbale è fondamentale\, perché prima di ogni altra cosa la parola diventa suono e il suono entra nelle nostre orecchie generando vibrazioni di senso\, immaginazione e pensiero.\nIl dialogo fra traduttore e attori\, nella fase di studio del testo\, è stato fondamentale per scoprire le differenze culturali dell’utilizzo della lingua e dei modi di dire nel contesto culturale di origine contestualizzata in un periodo storico e a un contesto sociale e politico.\nAntonio Syxty \nTeatro Litta\nda lunedì a sabato ore 20.30 – domenica riposo\nintero € 30\,00 – convenzioni € 24\,00 – ridotto Arcobaleno (per chi porta in cassa un oggetto arcobaleno) € 24\,00 – Under 30 e Over 65 € 17\,00 – Università € 17\,00 – scuole di Teatro € 19\,00 – scuole civiche Fondazione Milano\, Piccolo Teatro\, La Scala e Filodrammatici € 11\,00 – Scuole MTM € 10\,00 – ridotto DVA € 15\,00 tagliando Esselunga di colore ROSSO\nInvito a teatro Manifatture Teatrali Milanesi \ndurata: 120 minuti\nInfo e prenotazioni biglietteria@mtmteatro.it – 02.86.45.45.45 \nI biglietti sono acquistabili sul sito www.biglietti.mtmteatro.it e sul sito e punti vendita Vivaticket.\nI biglietti prenotati vanno ritirati nei giorni precedenti negli orari di prevendita e la domenica a partire da un’ora prima dell’inizio dello spettacolo.
URL:https://www.puntoelineamagazine.it/evento/il-gioco-dellamore-e-del-caso-di-pierre-carlet-de-chamblain-de-marivaux/
LOCATION:MTM Teatro Litta\, Corso Magenta 24\, Milano\, 20123\, Italy
CATEGORIES:Teatro
ORGANIZER;CN="Manifatture Teatrali Milanesi":MAILTO:biglietteria@mtmteatro.it
END:VEVENT
END:VCALENDAR