BEGIN:VCALENDAR
VERSION:2.0
PRODID:-//Punto e Linea Magazine - ECPv6.15.11//NONSGML v1.0//EN
CALSCALE:GREGORIAN
METHOD:PUBLISH
X-WR-CALNAME:Punto e Linea Magazine
X-ORIGINAL-URL:https://www.puntoelineamagazine.it
X-WR-CALDESC:Eventi per Punto e Linea Magazine
REFRESH-INTERVAL;VALUE=DURATION:PT1H
X-Robots-Tag:noindex
X-PUBLISHED-TTL:PT1H
BEGIN:VTIMEZONE
TZID:Europe/Rome
BEGIN:DAYLIGHT
TZOFFSETFROM:+0100
TZOFFSETTO:+0200
TZNAME:CEST
DTSTART:20230326T010000
END:DAYLIGHT
BEGIN:STANDARD
TZOFFSETFROM:+0200
TZOFFSETTO:+0100
TZNAME:CET
DTSTART:20231029T010000
END:STANDARD
BEGIN:DAYLIGHT
TZOFFSETFROM:+0100
TZOFFSETTO:+0200
TZNAME:CEST
DTSTART:20240331T010000
END:DAYLIGHT
BEGIN:STANDARD
TZOFFSETFROM:+0200
TZOFFSETTO:+0100
TZNAME:CET
DTSTART:20241027T010000
END:STANDARD
BEGIN:DAYLIGHT
TZOFFSETFROM:+0100
TZOFFSETTO:+0200
TZNAME:CEST
DTSTART:20250330T010000
END:DAYLIGHT
BEGIN:STANDARD
TZOFFSETFROM:+0200
TZOFFSETTO:+0100
TZNAME:CET
DTSTART:20251026T010000
END:STANDARD
BEGIN:DAYLIGHT
TZOFFSETFROM:+0100
TZOFFSETTO:+0200
TZNAME:CEST
DTSTART:20260329T010000
END:DAYLIGHT
BEGIN:STANDARD
TZOFFSETFROM:+0200
TZOFFSETTO:+0100
TZNAME:CET
DTSTART:20261025T010000
END:STANDARD
END:VTIMEZONE
BEGIN:VEVENT
DTSTART;TZID=Europe/Rome:20241226T173000
DTEND;TZID=Europe/Rome:20250101T173000
DTSTAMP:20260421T133740
CREATED:20241220T181951Z
LAST-MODIFIED:20241220T182009Z
UID:10000037-1735234200-1735752600@www.puntoelineamagazine.it
SUMMARY:TOOTSIE
DESCRIPTION:Foto di scena: Tootsie – Paolo Conticini © PeepArrow Entertainment – Il Sistina\nDal 26 dicembre al 1 gennaio\nferiali ore 20\,45 – domenica ore 15\,30\n26 dicembre e 1 gennaio ore 17\,30\n31 dicembre ore 16\,00 e ore 21\,00 \nPer la prima volta in Italia \nTOOTSIE\nla nuova commedia musicale firmata Massimo Romeo Piparo\nAl Teatro Manzoni di Milano per tutte le feste di Natale \nDivertente\, romantico e con una irresistibile vena dissacrante che fa sorridere ma anche riflettere: per la prima volta in Italia è in scena “Tootsie”\, il nuovo Musical firmato e adattato in italiano da Massimo Romeo Piparo tratto dal famoso film del 1982 di Sydney Pollack con l’indimenticabile interpretazione di Dustin Hoffman. \nInterpretato dall’inedita ma affiatatissima coppia formata da Paolo Conticini – già protagonista acclamato di successi come “Mamma Mia!” e “The Full Monty”- ed Enzo Iacchetti che torna finalmente al Musical dopo il grande successo personale ottenuto nei panni di Zazà ne “Il Vizietto”\, “Tootsie” –già in tour da novembre- sarà in scena da giovedì 26 dicembre e per tutte le feste di Natale\, fino a mercoledì 1° gennaio. \nDopo i grandissimi successi e le novità degli ultimi anni\, da “Cats” a “Matilda”\, e al trionfale ritorno di “Jesus Christ Superstar”\, Massimo Romeo Piparo porta in scena un nuovo spettacolo\, destinato a sorprendere e conquistare il cuore degli spettatori. \n«Come sempre il Teatro arriva più in fondo e in modo più diretto al cuore dei temi fondamentali della nostra società”\, afferma Massimo Romeo Piparo. «In un momento in cui si fa tanto parlare (o urlare) di temi così delicati e sensibili come “sessismo”\, “patriarcato”\, “identità”\, Tootsie\, con leggerezza e grande ironia\, oltre che con la ineguagliabile forza della musica\, li rappresenta in modo chiaro e deciso\, affidando a poche ma significative indimenticabili battute la prova di quanta confusione ci sia ancora oggi tra “essere” e “apparire”. Nella versione teatrale si aggiunge anche una caustica e pungente critica all’intero mondo dello showbusiness in cui – purtroppo – la differenza tra i sessi è ancora marcatamente segnata. La mia versione italiana – continua Piparo – tiene fedelmente conto dell’indirizzo dato dagli autori e ne esalta tutta l’ironia e la rinnovata comicità\, integrandola grazie anche alla grande ispirazione che una inedita e strepitosa coppia di attori come Conticini e Iacchetti mi hanno fornito. Un cast di grandissimi professionisti\, tutti perfettamente aderenti ai propri ruoli\, ha completato la ricetta che mi ha permesso di offrire al pubblico italiano un prodotto attualissimo\, scorrevole e di grande intrattenimento\, che per la prima volta in Italia viene rappresentato dopo il suo successo a Broadway. Tootsie è un (meritato e doveroso) inno alle donne\, uno spettacolo al femminile anche quando a parlarne… sono gli uomini\, che potremmo condensare nella celeberrima battuta finale: “sono stato un uomo migliore con te\, da donna…di quanto non lo sia stato con le altre donne…da uomo. Devo solo imparare a farlo…senza la gonna!». \nCon il libretto di Robert Horn\, vincitore del Tony Award per questo titolo\, e la musica e i testi di David Yazbek\, già autore di un altro grande successo come “The Full Monty\, “Tootsie” è classificato come una delle migliori commedie di tutti i tempi nella lista stilata dall’American Film Institute e acclamato come “Il Musical più divertente di Broadway!” (The New York Post)\, oltre ad aver ricevuto l’incredibile cifra di 11 nomination agli Oscar del Musical (Tony Award)\, tra cui quello per il miglior musical e la migliore colonna sonora originale. \nLo spettacolo\, prodotto da PeepArrow Entertainment in collaborazione con Il Sistina\, racconta la storia di Michael Dorsey (Paolo Conticini)\, un bravo attore con un particolare talento per… non riuscire a mantenere un lavoro! Avvilito e disoccupato\, Michael decide di fare un ultimo\, disperato tentativo per realizzare i suoi sogni: si presenta al provino del musical sequel di Giulietta e Romeo\, travestito da donna con il nome di Dorothy Michaels e\, dopo un’ottima performance\, lo vince. In una fulminea ascesa verso la celebrità di Broadway\, Michael (travestito da Dorothy) diventa presto un’attrice amatissima dal pubblico ma\, mentre il lavoro comincia ad andare a gonfie vele\, Michael si innamora di una sua collega. Sarà il suo amico e coinquilino Jeff (Enzo Iacchetti)\, uno squattrinato ma navigato scrittore che per sopravvivere gestisce un ristorante\, a metterlo di fronte alla realtà\, facendogli realizzare che mantenere quel successo “di attrice” è molto più difficile di quanto si possa aspettare. \nCon il suo ritmo serrato\, la coinvolgente colonna sonora e una vicenda incredibilmente attuale\, “Tootsie” è una commedia brillante e piena di colpi di scena\, che si prende amabilmente gioco dell’intero mondo dello showbusiness con le sue dinamiche distorte\, in cui “merito” e “scorciatoia” spesso si confondono. Ma la storia di Michael\, grazie anche allo scoppiettante rapporto con il suo alter-ego Jeff\, offre anche l’occasione per riflettere su temi importanti\, come l’amore e il rapporto tra i sessi\, l’identità e il ruolo della donna nella società\, la genialità e il coraggio di rischiare per guadagnarsi un’opportunità per emergere. Celeberrima la frase finale che il camaleontico Dustin Hoffman rivolge alla sua amata nel disperato tentativo di “giustificare” il suo scambio di identità: «Sono stato un uomo migliore con te da ‘donna’\, di quanto lo sia stato con le altre donne da ‘uomo’». \nPer San Silvestro sono previste 2 recite\, alle ore 16\,00 e alle ore 21\,00. Al termine della recita delle 21\,00\, allo scoccare della mezzanotte\, si brinderà al nuovo anno con spumante\, panettone e un buffet di dolci insieme alla Compagnia.\nInoltre in occasione della recita delle ore 21\,00 sarà possibile cenare nel foyer del Teatro a partire dalle ore 20\,00. Info su prenotazione\, prezzo e menù sul sito del Teatro alla pagina di questo link \nLa realizzazione di Tootsie – unitamente alla prossima produzione di “West Side Story” sancisce per Peeparrow Entertainment e per il Teatro Sistina l’inizio dell’importante partnership con Fineco che per un biennio sarà Main Sponsor delle rispettive attività. Una collaborazione prestigiosa e di grande qualità che vede affiancate due realtà molto affermate nei rispettivi ambiti. \nTOOTSIE\nMusica e testi di David Yazbek\nLibretto di Robert Horn\nTratto dalla storia di Don McGuire e Larry Gelbart e dal film Columbia Pictures prodotto da Punch Production\, interpretato da Dustin Hoffman\nRegia e adattamento di Massimo Romeo Piparo\nProdotto da PeepArrow Entertainment e Il Sistina\nin accordo con Music Theatre International (Europe) Limited: www.mtishows.eu \nTEAM CREATIVO\nEmanuele Friello Direzione Musicale\nTeresa Caruso Scene\nCecilia Betona Costumi\nRoberto Croce Coreografie\nUmile Vainieri Luci\nStefano Gorini Suono \nCon\nPaolo Conticini nel ruolo di Michael Dorsey/ Dorothy Michaels\ncon la partecipazione di Enzo Iacchetti nel ruolo di Jeff \nE con\nBeatrice Baldaccini/ Julie\nIlaria Fioravanti/ Sandy\nMatteo Guma / Max\nMassimiliano Carulli / Ron\nElena Mancuso-Gea Rambelli / Rita\nSebastiano Vinci / Stan\nNico Colucci / Clar\nFabrizia Scaccia / Suzie\nRoberto Tarsi / Stuart \nEnsemble\nMartina Bassarello\nBenjamin Bemporad\nMatteo Germinario\nSilvia Giacobbe\nPaolo Giammona\nGinevra Grossi\nClara Intorre\nAlice Longo\nDenis Scoppetta \nBIGLIETTI\nPrestige € 58\,00 – Poltronissima € 49\,00 \n31 dicembre ore 16\,00\nPrestige € 63\,00 – Poltronissima € 54\,00 \n31 dicembre ore 21\,00\nPrestige € 115\,00 – Poltronissima € 97\,00 \nPer acquisto:\nbiglietteria del Teatro\nonline\ntelefonicamente 027636901\ncircuito Ticketone
URL:https://www.puntoelineamagazine.it/evento/tootsie/
LOCATION:Teatro Manzoni di Milano\, Via Alessandro Manzoni 42\, Milano\, 20121\, Italia
CATEGORIES:Musica,Teatro
ORGANIZER;CN="Teatro Manzoni di Milano":MAILTO:info@teatromanzoni.it
END:VEVENT
BEGIN:VEVENT
DTSTART;TZID=Europe/Rome:20250110T200000
DTEND;TZID=Europe/Rome:20250118T200000
DTSTAMP:20260421T133740
CREATED:20250109T114723Z
LAST-MODIFIED:20250109T114723Z
UID:10000038-1736539200-1737230400@www.puntoelineamagazine.it
SUMMARY:L’AMORE SCOPPIÒ DAPPERTUTTO
DESCRIPTION:Foto di scena: Laura Marinoni © Laila Pozzo\nPer Fabrizio De André \nDal 10 al 18 gennaio 2025 \nIdeato e diretto da Emilio Russo\nCon Laura Marinoni \nArrangiamenti musicali di Alessandro Nidi \nMusica dal vivo Nidi Ensemble\nPianoforte Alessandro Nidi\nPercussioni Sebastiano Nidi\nTrombone Filippo Nidi\nFisarmonica e sax Andrea Coruzzi\nArrangiamenti musicali di Alessandro Nidi \nCostumi Pamela Aicardi\nLuci Mattia De Pace \nTotal look di Laura Marinoni a cura di Antonio Marras \nProduzione Tieffe Teatro in collaborazione con il Festival Teatrale di Borgio Verezzi \nDal 10 al 18 gennaio al Teatro Menotti ritorna in scena L’amore scoppiò dappertutto\, un omaggio a Fabrizio De André tra parole e musica\, con Laura Marinoni e un quartetto di musicisti con arrangiamenti di Alessandro Nidi. \nVentisei anni di assenza. Era l’11 gennaio 1999 e\, per noi che restavamo\, sembrava impossibile continuare le nostre vite senza Fabrizio De André\, senza la sua musica\, senza la sua poesia\, senza il suo sguardo lucido e penetrante sul mondo. Ci sbagliavamo: è rimasto con noi\, e la sua presenza è oggi più forte che mai\, estendendosi anche alle generazioni che non l’hanno conosciuto in vita. La sua luce non si è affatto spenta. \nNon per ricordarlo\, poiché non ce n’è affatto bisogno\, ma per festeggiarlo\, abbiamo pensato ad uno spettacolo a modo nostro\, tra le parole e la musica\, con nuovi pensieri e ricordi che creano un intreccio di emozioni tra il palco e la platea. Sul palcoscenico una grande protagonista delle nostre scene LAURA MARINONI\, che con sensibilità\, energia e intensità “naviga” tra le parole e le canzoni lungo il filo rosso dei temi cari a Fabrizio De André. \nUn viaggio senza soluzione di continuità\, uno sguardo trasversale e originale\, un racconto di parole e musica che spazia tra riferimenti alti (Baudelaire\, Villon\, Mutis) e storie degli ultimi\, dei diseredati. In scena un quartetto di musicisti con gli arrangiamenti non convenzionali di ALESSANDRO NIDI in grado di dare nuove sonorità alle canzoni e ai momenti teatrali dello spettacolo. \nUn atto d’amore per il più grande dei nostri cantautori\, racchiuso in un titolo\, che rappresenta anche uno dei suoi ultimi appunti. “E poi a un tratto l’amore scoppiò dappertutto” \nSpettacolo sostenuto da NEXT- Laboratorio delle Idee \n  \nSTAGIONE 2024 | 2025 \nBIGLIETTERIA \nPREZZI \n\nIntero – 32.00 € + 2.00 € prevendita\nRidotto over 65/under 14 – 16.00 € + 1.50 € prevendita\nAbbonamento Menotti Card 4 ingressi €60\, 8 ingressi €110\n\nTEATRO MENOTTI\nVia Ciro Menotti 11\, Milano – tel. 0282873611 –  biglietteria@teatromenotti.org \nORARI BIGLIETTERIA\nDal lunedì al sabato dalle ore 14.00 alle ore 18.30\, dalle 19.00 alle 20.00 solo nei giorni di spettacolo\nDomenica ore 14.30 | 16.00 solo nei giorni di spettacolo \nAcquisti online \nORARI SPETTACOLI:\nDal martedì al sabato ore 20\nDomenica ore 16.30\nLunedì riposo
URL:https://www.puntoelineamagazine.it/evento/lamore-scoppio-dappertutto/
LOCATION:Teatro Menotti Filippo Perego\, Via Ciro Menotti\, 11\, Milano\, 20129\, Italia
CATEGORIES:Musica,Teatro
END:VEVENT
END:VCALENDAR