BEGIN:VCALENDAR
VERSION:2.0
PRODID:-//Punto e Linea Magazine - ECPv6.15.11//NONSGML v1.0//EN
CALSCALE:GREGORIAN
METHOD:PUBLISH
X-WR-CALNAME:Punto e Linea Magazine
X-ORIGINAL-URL:https://www.puntoelineamagazine.it
X-WR-CALDESC:Eventi per Punto e Linea Magazine
REFRESH-INTERVAL;VALUE=DURATION:PT1H
X-Robots-Tag:noindex
X-PUBLISHED-TTL:PT1H
BEGIN:VTIMEZONE
TZID:Europe/Rome
BEGIN:DAYLIGHT
TZOFFSETFROM:+0100
TZOFFSETTO:+0200
TZNAME:CEST
DTSTART:20240331T010000
END:DAYLIGHT
BEGIN:STANDARD
TZOFFSETFROM:+0200
TZOFFSETTO:+0100
TZNAME:CET
DTSTART:20241027T010000
END:STANDARD
BEGIN:DAYLIGHT
TZOFFSETFROM:+0100
TZOFFSETTO:+0200
TZNAME:CEST
DTSTART:20250330T010000
END:DAYLIGHT
BEGIN:STANDARD
TZOFFSETFROM:+0200
TZOFFSETTO:+0100
TZNAME:CET
DTSTART:20251026T010000
END:STANDARD
BEGIN:DAYLIGHT
TZOFFSETFROM:+0100
TZOFFSETTO:+0200
TZNAME:CEST
DTSTART:20260329T010000
END:DAYLIGHT
BEGIN:STANDARD
TZOFFSETFROM:+0200
TZOFFSETTO:+0100
TZNAME:CET
DTSTART:20261025T010000
END:STANDARD
END:VTIMEZONE
BEGIN:VEVENT
DTSTART;TZID=Europe/Rome:20250225T200000
DTEND;TZID=Europe/Rome:20250302T163000
DTSTAMP:20260421T133847
CREATED:20250219T132949Z
LAST-MODIFIED:20250219T132949Z
UID:10000046-1740513600-1740933000@www.puntoelineamagazine.it
SUMMARY:RIGOLETTO. La notte della maledizione
DESCRIPTION:Foto di scena: Rigoletto – Marco Baliani © Guido Mencari\nTEATRO MENOTTI FILIPPO PEREGO\n25 febbraio – 2 marzo 2025   \ndi e con Marco Baliani \ne con\nGiampaolo Bandini (chitarra)\, Cesare Chiacchiaretta (fisarmonica) \nMusiche Giuseppe Verdi\, Nino Rota\, Cesare Chiacchiaretta\nFoto Guido Mencari \nUna produzione Casa degli Alfieri Soc. Coop.\, Società dei Concerti di Parma\nin collaborazione con Teatro Regio di Parma \nPrima milanese  \nArriva al Teatro Menotti di Milano\, dal 25 febbraio al 2 marzo\, “Rigoletto. La notte della maledizione” di e con Marco Baliani\, accompagnato da Giampaolo Bandini\, alla chitarra\, e da Cesare Chiacchiaretta\, alla fisarmonica\, una produzione Società dei Concerti di Parma\, in collaborazione con il Teatro Regio di Parma. \nLa nostalgia per la donna amata\, la gelosa premura nei confronti della figlia\, la sete di vendetta contro chi minaccia la sua purezza: i sentimenti di Rigoletto\, che la musica di Verdi ha reso immortali\, rivivono nell’animo e nella storia di un clown che si esibisce in un piccolo teatro di periferia. Davanti allo specchio\, mentre trasforma col trucco il suo viso\, si prepara per una serata speciale\, quella in cui si consumerà la sua vendetta\, sotto gli occhi di tutti. Pensieri\, rancori\, ricordi si susseguono in un monologo accompagnato\, interrotto e per certi versi ostacolato da una musica sempre presente. \n«Rigoletto è un monologo\, quindi per farlo c’è bisogno di un personaggio in carne e ossa\, spirito e materia – scrive Marco Baliani – È uno dei motivi che mi ha spinto a questa impresa. Poter rivestire per una volta la pelle di un altro e starci dentro dall’inizio alla fine: è una gioia particolare per me che in scena da narratore non ho mai la possibilità di calarmi interamente nelle braghe di chicchessia\, sempre devo stare vigile a controllare e dirigere l’intero svolgersi della vicenda. Quando invece dirigo altri attori\, loro sì\, sono personaggi e li invidio sempre un po’\, perché so che vuol dire poter essere un altro fisicamente e spiritualmente\, una sensazione di pienezza\, aver generato un altro avvicina noi uomini al mistero della duplicazione femminile». E ancora: «la seconda motivazione è stata la mia passione per gli esseri del circo\, ma quei circhi piccoli\, non eclatanti\, non amo i “soleil” circensi fatti di effetti speciali e artisti al limite della robotica per la bellezza scultorea e bravura millimetrica del corpo. No\, preferisco la rozzezza faticosa ma meravigliosa di quei circhi dove chi strappa i biglietti te lo ritrovi dopo vestito da pagliaccio e il trapezista sa anche fare giocolerie\, esseri nomadi\, zingarescamente affamati di vita\, mi prende uno struggimento totale quando varco quei tendoni\, a percepire la fatica quotidiana di un vivere precario ma impeccabile. Volevo fare un omaggio alle cadute\, alle sospensioni\, alle mancanze di appoggi». \nCon Rigoletto. La notte della maledizione Baliani dà vita alla prima di tre tappe di scoperta dell’impianto drammaturgico di alcune opere verdiane\, sottraendo il melò e portandolo verso un più spietato dramma\, quello che sta al fondo dell’opera come cuore pulsante. Partendo dalla figura di Rigoletto\, procederà con il Trovatore e la Traviata. Ogni volta la scrittura muterà spessore e forma\, così come mutevole sorprendente sarà l’interpretazione fisica e posturale di Marco Baliani. \nSTAGIONE 2024 | 2025 \nBIGLIETTERIA \nPREZZI: \n\nIntero – 32.00 € + 2.00 € prevendita\nRidotto over 65/under 14 – 16.00 € + 1.50 € prevendita\nAbbonamento Menotti Card 4 ingressi €60\, 8 ingressi €110\n\nTEATRO MENOTTI:\nVia Ciro Menotti 11\, Milano – tel. 0282873611 –  biglietteria@teatromenotti.org \nORARI BIGLIETTERIA:\nDal lunedì al sabato dalle ore 14.00 alle ore 18.30\, dalle 19.00 alle 20.00 solo nei giorni di spettacolo\nDomenica ore 14.30 | 16.00 solo nei giorni di spettacolo\nAcquisti online \nORARI SPETTACOLI:\nDal martedì al sabato ore 20\nDomenica ore 16.30\nLunedì riposo
URL:https://www.puntoelineamagazine.it/evento/rigoletto-la-notte-della-maledizione/
LOCATION:Teatro Menotti Filippo Perego\, Via Ciro Menotti\, 11\, Milano\, 20129\, Italia
CATEGORIES:Musica,Teatro
END:VEVENT
END:VCALENDAR